Package: Rdisop Version: 1.67.5 Command: E:\biocbuild\bbs-3.21-bioc\R\bin\R.exe CMD check --no-multiarch --install=check:Rdisop.install-out.txt --library=E:\biocbuild\bbs-3.21-bioc\R\library --no-vignettes --timings Rdisop_1.67.5.tar.gz StartedAt: 2025-02-21 04:50:15 -0500 (Fri, 21 Feb 2025) EndedAt: 2025-02-21 04:51:10 -0500 (Fri, 21 Feb 2025) EllapsedTime: 54.3 seconds RetCode: 0 Status: OK CheckDir: Rdisop.Rcheck Warnings: 0