Package: Rdisop Version: 1.67.5 Command: /home/biocbuild/bbs-3.21-bioc/R/bin/R CMD build --keep-empty-dirs --no-resave-data Rdisop StartedAt: 2025-02-20 18:54:02 -0500 (Thu, 20 Feb 2025) EndedAt: 2025-02-20 18:54:38 -0500 (Thu, 20 Feb 2025) EllapsedTime: 36.1 seconds RetCode: 0 Status: OK PackageFile: Rdisop_1.67.5.tar.gz PackageFileSize: 712.8 KiB