Package: Rdisop Version: 1.67.5 Command: /Library/Frameworks/R.framework/Resources/bin/R CMD INSTALL Rdisop StartedAt: 2025-02-20 15:01:40 -0500 (Thu, 20 Feb 2025) EndedAt: 2025-02-20 15:01:59 -0500 (Thu, 20 Feb 2025) EllapsedTime: 18.7 seconds RetCode: 0 Status: OK