Package: Rdisop Version: 1.67.5 Command: /Library/Frameworks/R.framework/Resources/bin/R CMD build --keep-empty-dirs --no-resave-data Rdisop StartedAt: 2025-02-20 17:21:33 -0500 (Thu, 20 Feb 2025) EndedAt: 2025-02-20 17:21:46 -0500 (Thu, 20 Feb 2025) EllapsedTime: 13.2 seconds RetCode: 0 Status: OK PackageFile: Rdisop_1.67.5.tar.gz PackageFileSize: 715.2 KiB