Package: RcwlPipelines Version: 1.23.0 Command: /home/biocbuild/bbs-3.21-bioc/R/bin/R CMD build --keep-empty-dirs --no-resave-data RcwlPipelines StartedAt: 2025-02-21 19:14:43 -0500 (Fri, 21 Feb 2025) EndedAt: 2025-02-21 19:15:19 -0500 (Fri, 21 Feb 2025) EllapsedTime: 36.1 seconds RetCode: 0 Status: OK PackageFile: RcwlPipelines_1.23.0.tar.gz PackageFileSize: 877.5 KiB