Package: RcwlPipelines Version: 1.23.0 Command: /Library/Frameworks/R.framework/Resources/bin/R CMD check --install=check:RcwlPipelines.install-out.txt --library=/Library/Frameworks/R.framework/Resources/library --no-vignettes --timings RcwlPipelines_1.23.0.tar.gz StartedAt: 2025-02-20 22:39:51 -0500 (Thu, 20 Feb 2025) EndedAt: 2025-02-20 22:42:10 -0500 (Thu, 20 Feb 2025) EllapsedTime: 139.2 seconds RetCode: 0 Status: OK CheckDir: RcwlPipelines.Rcheck Warnings: 0