Package: RcwlPipelines Version: 1.23.0 Command: /Library/Frameworks/R.framework/Resources/bin/R CMD build --keep-empty-dirs --no-resave-data RcwlPipelines StartedAt: 2025-02-20 17:56:19 -0500 (Thu, 20 Feb 2025) EndedAt: 2025-02-20 17:57:06 -0500 (Thu, 20 Feb 2025) EllapsedTime: 47.1 seconds RetCode: 0 Status: OK PackageFile: RcwlPipelines_1.23.0.tar.gz PackageFileSize: 877.4 KiB