Package: RcwlPipelines Version: 1.23.0 Command: /home/biocbuild/R/R/bin/R CMD check --install=check:RcwlPipelines.install-out.txt --library=/home/biocbuild/R/R/site-library --no-vignettes --timings RcwlPipelines_1.23.0.tar.gz StartedAt: 2025-01-28 14:21:24 -0000 (Tue, 28 Jan 2025) EndedAt: 2025-01-28 14:23:44 -0000 (Tue, 28 Jan 2025) EllapsedTime: 140.3 seconds RetCode: 0 Status: OK CheckDir: RcwlPipelines.Rcheck Warnings: 0