Package: RcwlPipelines Version: 1.23.0 Command: /Library/Frameworks/R.framework/Resources/bin/R CMD INSTALL RcwlPipelines StartedAt: 2025-02-20 15:29:27 -0500 (Thu, 20 Feb 2025) EndedAt: 2025-02-20 15:29:32 -0500 (Thu, 20 Feb 2025) EllapsedTime: 5.1 seconds RetCode: 0 Status: OK