Package: Rcwl Version: 1.23.0 Command: /home/biocbuild/bbs-3.21-bioc/R/bin/R CMD INSTALL Rcwl StartedAt: 2025-02-20 15:21:13 -0500 (Thu, 20 Feb 2025) EndedAt: 2025-02-20 15:21:24 -0500 (Thu, 20 Feb 2025) EllapsedTime: 10.9 seconds RetCode: 0 Status: OK