Package: Rcwl Version: 1.23.0 Command: /home/biocbuild/bbs-3.21-bioc/R/bin/R CMD build --keep-empty-dirs --no-resave-data Rcwl StartedAt: 2025-02-20 18:53:35 -0500 (Thu, 20 Feb 2025) EndedAt: 2025-02-20 18:54:11 -0500 (Thu, 20 Feb 2025) EllapsedTime: 36.0 seconds RetCode: 0 Status: OK PackageFile: Rcwl_1.23.0.tar.gz PackageFileSize: 1.024 MiB