Package: Rcwl Version: 1.23.0 Command: rm -rf Rcwl.buildbin-libdir && mkdir Rcwl.buildbin-libdir && /Users/biocbuild/BBS/utils/build-universal.sh Rcwl_1.23.0.tar.gz /Library/Frameworks/R.framework/Resources/bin/R Rcwl.buildbin-libdir StartedAt: 2025-02-21 00:47:48 -0500 (Fri, 21 Feb 2025) EndedAt: 2025-02-21 00:48:10 -0500 (Fri, 21 Feb 2025) EllapsedTime: 21.7 seconds RetCode: 0 Status: OK PackageFile: Rcwl_1.23.0.tgz PackageFileSize: 1.243 MiB