Package: Rcpi Version: 1.43.0 Command: E:\biocbuild\bbs-3.21-bioc\R\bin\R.exe CMD check --no-multiarch --install=check:Rcpi.install-out.txt --library=E:\biocbuild\bbs-3.21-bioc\R\library --no-vignettes --timings Rcpi_1.43.0.tar.gz StartedAt: 2025-02-21 04:49:47 -0500 (Fri, 21 Feb 2025) EndedAt: 2025-02-21 04:52:52 -0500 (Fri, 21 Feb 2025) EllapsedTime: 184.5 seconds RetCode: 0 Status: OK CheckDir: Rcpi.Rcheck Warnings: 0