Package: Rcpi Version: 1.43.0 Command: rm -rf Rcpi.buildbin-libdir && mkdir Rcpi.buildbin-libdir && E:\biocbuild\bbs-3.21-bioc\R\bin\R.exe CMD INSTALL --build --library=Rcpi.buildbin-libdir Rcpi_1.43.0.tar.gz StartedAt: 2025-02-21 08:52:13 -0500 (Fri, 21 Feb 2025) EndedAt: 2025-02-21 08:53:47 -0500 (Fri, 21 Feb 2025) EllapsedTime: 93.9 seconds RetCode: 0 Status: OK PackageFile: Rcpi_1.43.0.zip PackageFileSize: 2.578 MiB