Package: Rcpi Version: 1.43.0 Command: /home/biocbuild/bbs-3.21-bioc/R/bin/R CMD INSTALL Rcpi StartedAt: 2025-02-20 15:52:26 -0500 (Thu, 20 Feb 2025) EndedAt: 2025-02-20 15:52:42 -0500 (Thu, 20 Feb 2025) EllapsedTime: 15.4 seconds RetCode: 0 Status: OK