Package: Rcpi Version: 1.43.0 Command: /home/biocbuild/bbs-3.21-bioc/R/bin/R CMD build --keep-empty-dirs --no-resave-data Rcpi StartedAt: 2025-02-20 18:53:15 -0500 (Thu, 20 Feb 2025) EndedAt: 2025-02-20 18:53:35 -0500 (Thu, 20 Feb 2025) EllapsedTime: 20.0 seconds RetCode: 0 Status: OK PackageFile: Rcpi_1.43.0.tar.gz PackageFileSize: 2.97 MiB