Package: Rcpi Version: 1.43.0 Command: /Library/Frameworks/R.framework/Resources/bin/R CMD check --install=check:Rcpi.install-out.txt --library=/Library/Frameworks/R.framework/Resources/library --no-vignettes --timings Rcpi_1.43.0.tar.gz StartedAt: 2025-02-20 22:39:46 -0500 (Thu, 20 Feb 2025) EndedAt: 2025-02-20 22:42:08 -0500 (Thu, 20 Feb 2025) EllapsedTime: 141.6 seconds RetCode: 0 Status: OK CheckDir: Rcpi.Rcheck Warnings: 0