Package: Rcpi Version: 1.43.0 Command: /Library/Frameworks/R.framework/Resources/bin/R CMD build --keep-empty-dirs --no-resave-data Rcpi StartedAt: 2025-02-20 17:21:04 -0500 (Thu, 20 Feb 2025) EndedAt: 2025-02-20 17:21:14 -0500 (Thu, 20 Feb 2025) EllapsedTime: 10.1 seconds RetCode: 0 Status: OK PackageFile: Rcpi_1.43.0.tar.gz PackageFileSize: 2.971 MiB