Package: RcisTarget Version: 1.27.0 Command: /home/biocbuild/bbs-3.21-bioc/R/bin/R CMD INSTALL RcisTarget StartedAt: 2025-02-21 16:13:25 -0500 (Fri, 21 Feb 2025) EndedAt: 2025-02-21 16:14:05 -0500 (Fri, 21 Feb 2025) EllapsedTime: 39.9 seconds RetCode: 0 Status: OK