Package: RcisTarget Version: 1.27.0 Command: /Library/Frameworks/R.framework/Resources/bin/R CMD build --keep-empty-dirs --no-resave-data RcisTarget StartedAt: 2025-02-21 17:56:37 -0500 (Fri, 21 Feb 2025) EndedAt: 2025-02-21 17:58:06 -0500 (Fri, 21 Feb 2025) EllapsedTime: 88.3 seconds RetCode: 0 Status: OK PackageFile: RcisTarget_1.27.0.tar.gz PackageFileSize: 12.84 MiB