Package: RcisTarget Version: 1.27.0 Command: rm -rf RcisTarget.buildbin-libdir && mkdir RcisTarget.buildbin-libdir && /Users/biocbuild/BBS/utils/build-universal.sh RcisTarget_1.27.0.tar.gz /Library/Frameworks/R.framework/Resources/bin/R RcisTarget.buildbin-libdir StartedAt: 2025-02-21 00:47:46 -0500 (Fri, 21 Feb 2025) EndedAt: 2025-02-21 00:48:36 -0500 (Fri, 21 Feb 2025) EllapsedTime: 50.7 seconds RetCode: 0 Status: OK PackageFile: RcisTarget_1.27.0.tgz PackageFileSize: 13.01 MiB