Package: RcisTarget Version: 1.27.0 Command: /home/biocbuild/R/R/bin/R CMD build --keep-empty-dirs --no-resave-data RcisTarget StartedAt: 2025-01-29 01:32:27 -0000 (Wed, 29 Jan 2025) EndedAt: 2025-01-29 01:34:16 -0000 (Wed, 29 Jan 2025) EllapsedTime: 109.0 seconds RetCode: 0 Status: OK PackageFile: RcisTarget_1.27.0.tar.gz PackageFileSize: 12.9 MiB