Package: RcisTarget Version: 1.27.0 Command: /Library/Frameworks/R.framework/Resources/bin/R CMD check --install=check:RcisTarget.install-out.txt --library=/Library/Frameworks/R.framework/Resources/library --no-vignettes --timings RcisTarget_1.27.0.tar.gz StartedAt: 2025-02-20 20:55:59 -0500 (Thu, 20 Feb 2025) EndedAt: 2025-02-20 20:58:27 -0500 (Thu, 20 Feb 2025) EllapsedTime: 148.2 seconds RetCode: 0 Status: OK CheckDir: RcisTarget.Rcheck Warnings: 0