Package: Rbwa Version: 1.11.0 Command: /home/biocbuild/bbs-3.21-bioc/R/bin/R CMD build --keep-empty-dirs --no-resave-data Rbwa StartedAt: 2025-02-19 18:48:08 -0500 (Wed, 19 Feb 2025) EndedAt: 2025-02-19 18:48:27 -0500 (Wed, 19 Feb 2025) EllapsedTime: 19.0 seconds RetCode: 0 Status: OK PackageFile: Rbwa_1.11.0.tar.gz PackageFileSize: 651.4 KiB