Package: Rbwa Version: 1.11.0 Command: /Library/Frameworks/R.framework/Resources/bin/R CMD check --install=check:Rbwa.install-out.txt --library=/Library/Frameworks/R.framework/Resources/library --no-vignettes --timings Rbwa_1.11.0.tar.gz StartedAt: 2025-02-19 20:59:01 -0500 (Wed, 19 Feb 2025) EndedAt: 2025-02-19 20:59:13 -0500 (Wed, 19 Feb 2025) EllapsedTime: 12.2 seconds RetCode: 0 Status: WARNINGS CheckDir: Rbwa.Rcheck Warnings: 1