Package: Rbowtie2 Version: 2.13.3 Command: E:\biocbuild\bbs-3.21-bioc\R\bin\R.exe CMD check --no-multiarch --install=check:Rbowtie2.install-out.txt --library=E:\biocbuild\bbs-3.21-bioc\R\library --no-vignettes --timings Rbowtie2_2.13.3.tar.gz StartedAt: 2025-02-21 04:48:43 -0500 (Fri, 21 Feb 2025) EndedAt: 2025-02-21 04:49:41 -0500 (Fri, 21 Feb 2025) EllapsedTime: 58.1 seconds RetCode: 0 Status: OK CheckDir: Rbowtie2.Rcheck Warnings: 0