Package: Rbowtie2 Version: 2.13.3 Command: rm -rf Rbowtie2.buildbin-libdir && mkdir Rbowtie2.buildbin-libdir && E:\biocbuild\bbs-3.21-bioc\R\bin\R.exe CMD INSTALL --build --library=Rbowtie2.buildbin-libdir Rbowtie2_2.13.3.tar.gz StartedAt: 2025-02-22 09:04:46 -0500 (Sat, 22 Feb 2025) EndedAt: 2025-02-22 09:10:44 -0500 (Sat, 22 Feb 2025) EllapsedTime: 357.6 seconds RetCode: 0 Status: OK PackageFile: Rbowtie2_2.13.3.zip PackageFileSize: 18.42 MiB