Package: Rbowtie2 Version: 2.13.3 Command: /Library/Frameworks/R.framework/Resources/bin/R CMD build --keep-empty-dirs --no-resave-data Rbowtie2 StartedAt: 2025-02-21 17:19:57 -0500 (Fri, 21 Feb 2025) EndedAt: 2025-02-21 17:21:07 -0500 (Fri, 21 Feb 2025) EllapsedTime: 69.8 seconds RetCode: 0 Status: OK PackageFile: Rbowtie2_2.13.3.tar.gz PackageFileSize: 1.711 MiB