Package: Rbowtie Version: 1.47.0 Command: /home/biocbuild/bbs-3.21-bioc/R/bin/R CMD build --keep-empty-dirs --no-resave-data Rbowtie StartedAt: 2025-02-19 18:47:57 -0500 (Wed, 19 Feb 2025) EndedAt: 2025-02-19 18:49:29 -0500 (Wed, 19 Feb 2025) EllapsedTime: 92.1 seconds RetCode: 0 Status: OK PackageFile: Rbowtie_1.47.0.tar.gz PackageFileSize: 903.8 KiB