Package: Rbowtie Version: 1.47.0 Command: /Library/Frameworks/R.framework/Resources/bin/R CMD INSTALL Rbowtie StartedAt: 2025-02-20 15:02:33 -0500 (Thu, 20 Feb 2025) EndedAt: 2025-02-20 15:02:57 -0500 (Thu, 20 Feb 2025) EllapsedTime: 24.1 seconds RetCode: 0 Status: OK