Package: Rbowtie Version: 1.47.0 Command: /Library/Frameworks/R.framework/Resources/bin/R CMD build --keep-empty-dirs --no-resave-data Rbowtie StartedAt: 2025-02-20 17:20:32 -0500 (Thu, 20 Feb 2025) EndedAt: 2025-02-20 17:21:04 -0500 (Thu, 20 Feb 2025) EllapsedTime: 31.3 seconds RetCode: 0 Status: OK PackageFile: Rbowtie_1.47.0.tar.gz PackageFileSize: 4.917 MiB