Package: RbcBook1 Version: 1.75.0 Command: E:\biocbuild\bbs-3.21-bioc\R\bin\R.exe CMD check --no-multiarch --install=check:RbcBook1.install-out.txt --library=E:\biocbuild\bbs-3.21-bioc\R\library --no-vignettes --timings RbcBook1_1.75.0.tar.gz StartedAt: 2025-02-18 04:16:25 -0500 (Tue, 18 Feb 2025) EndedAt: 2025-02-18 04:17:04 -0500 (Tue, 18 Feb 2025) EllapsedTime: 38.6 seconds RetCode: 0 Status: WARNINGS CheckDir: RbcBook1.Rcheck Warnings: 1