Package: RbcBook1 Version: 1.75.0 Command: rm -rf RbcBook1.buildbin-libdir && mkdir RbcBook1.buildbin-libdir && E:\biocbuild\bbs-3.21-bioc\R\bin\R.exe CMD INSTALL --build --library=RbcBook1.buildbin-libdir RbcBook1_1.75.0.tar.gz StartedAt: 2025-02-18 08:04:07 -0500 (Tue, 18 Feb 2025) EndedAt: 2025-02-18 08:04:27 -0500 (Tue, 18 Feb 2025) EllapsedTime: 20.2 seconds RetCode: 0 Status: OK PackageFile: RbcBook1_1.75.0.zip PackageFileSize: 6.433 MiB