Package: RbcBook1 Version: 1.75.0 Command: /home/biocbuild/bbs-3.21-bioc/R/bin/R CMD check --install=check:RbcBook1.install-out.txt --library=/home/biocbuild/bbs-3.21-bioc/R/site-library --timings RbcBook1_1.75.0.tar.gz StartedAt: 2025-02-18 01:21:36 -0500 (Tue, 18 Feb 2025) EndedAt: 2025-02-18 01:22:04 -0500 (Tue, 18 Feb 2025) EllapsedTime: 28.0 seconds RetCode: 0 Status: WARNINGS CheckDir: RbcBook1.Rcheck Warnings: 1