Package: RbcBook1 Version: 1.75.0 Command: rm -rf RbcBook1.buildbin-libdir && mkdir RbcBook1.buildbin-libdir && /Users/biocbuild/BBS/utils/build-universal.sh RbcBook1_1.75.0.tar.gz /Library/Frameworks/R.framework/Resources/bin/R RbcBook1.buildbin-libdir StartedAt: 2025-02-17 22:29:40 -0500 (Mon, 17 Feb 2025) EndedAt: 2025-02-17 22:29:43 -0500 (Mon, 17 Feb 2025) EllapsedTime: 3.1 seconds RetCode: 0 Status: OK PackageFile: RbcBook1_1.75.0.tgz PackageFileSize: 6.449 MiB