Package: Rarr Version: 1.7.1 Command: /home/biocbuild/bbs-3.21-bioc/R/bin/R CMD INSTALL Rarr StartedAt: 2025-02-18 15:14:05 -0500 (Tue, 18 Feb 2025) EndedAt: 2025-02-18 15:15:08 -0500 (Tue, 18 Feb 2025) EllapsedTime: 62.8 seconds RetCode: 0 Status: OK