Package: Rarr Version: 1.7.1 Command: /Library/Frameworks/R.framework/Resources/bin/R CMD check --install=check:Rarr.install-out.txt --library=/Library/Frameworks/R.framework/Resources/library --no-vignettes --timings Rarr_1.7.1.tar.gz StartedAt: 2025-02-18 22:32:31 -0500 (Tue, 18 Feb 2025) EndedAt: 2025-02-18 22:35:21 -0500 (Tue, 18 Feb 2025) EllapsedTime: 169.9 seconds RetCode: 0 Status: OK CheckDir: Rarr.Rcheck Warnings: 0