Package: Rarr Version: 1.7.1 Maintainer: Mike Smith MaintainerEmail: grimbough at gmail.com git_url: https://git.bioconductor.org/packages/Rarr git_branch: devel git_last_commit: 44fb98e git_last_commit_date: 2025-02-03 09:10:48 -0500 (Mon, 03 Feb 2025)