Package: RareVariantVis Version: 2.35.0 Command: /Library/Frameworks/R.framework/Resources/bin/R CMD INSTALL RareVariantVis StartedAt: 2025-02-18 15:11:42 -0500 (Tue, 18 Feb 2025) EndedAt: 2025-02-18 15:12:01 -0500 (Tue, 18 Feb 2025) EllapsedTime: 19.1 seconds RetCode: 0 Status: OK