Package: RankProd Version: 3.33.0 Command: E:\biocbuild\bbs-3.21-bioc\R\bin\R.exe CMD check --no-multiarch --install=check:RankProd.install-out.txt --library=E:\biocbuild\bbs-3.21-bioc\R\library --no-vignettes --timings RankProd_3.33.0.tar.gz StartedAt: 2025-02-20 04:29:27 -0500 (Thu, 20 Feb 2025) EndedAt: 2025-02-20 04:30:20 -0500 (Thu, 20 Feb 2025) EllapsedTime: 53.2 seconds RetCode: 0 Status: OK CheckDir: RankProd.Rcheck Warnings: 0