Package: RankProd Version: 3.33.0 Command: /home/biocbuild/bbs-3.21-bioc/R/bin/R CMD INSTALL RankProd StartedAt: 2025-02-20 15:05:54 -0500 (Thu, 20 Feb 2025) EndedAt: 2025-02-20 15:05:59 -0500 (Thu, 20 Feb 2025) EllapsedTime: 5.2 seconds RetCode: 0 Status: OK