Package: RaggedExperiment Version: 1.31.1 Command: chmod a+r RaggedExperiment -R && E:\biocbuild\bbs-3.21-bioc\R\bin\R.exe CMD build --keep-empty-dirs --no-resave-data RaggedExperiment StartedAt: 2025-02-20 21:03:49 -0500 (Thu, 20 Feb 2025) EndedAt: 2025-02-20 21:04:42 -0500 (Thu, 20 Feb 2025) EllapsedTime: 53.5 seconds RetCode: 0 Status: OK PackageFile: RaggedExperiment_1.31.1.tar.gz PackageFileSize: 687.4 KiB