Package: RaggedExperiment Version: 1.31.1 Command: /home/biocbuild/bbs-3.21-bioc/R/bin/R CMD INSTALL RaggedExperiment StartedAt: 2025-02-20 15:26:40 -0500 (Thu, 20 Feb 2025) EndedAt: 2025-02-20 15:27:03 -0500 (Thu, 20 Feb 2025) EllapsedTime: 22.6 seconds RetCode: 0 Status: OK