Package: RaggedExperiment Version: 1.31.1 Command: /Library/Frameworks/R.framework/Resources/bin/R CMD INSTALL RaggedExperiment StartedAt: 2025-02-20 15:04:53 -0500 (Thu, 20 Feb 2025) EndedAt: 2025-02-20 15:05:03 -0500 (Thu, 20 Feb 2025) EllapsedTime: 9.6 seconds RetCode: 0 Status: OK