Package: RaggedExperiment Version: 1.31.1 Command: rm -rf RaggedExperiment.buildbin-libdir && mkdir RaggedExperiment.buildbin-libdir && /Users/biocbuild/BBS/utils/build-universal.sh RaggedExperiment_1.31.1.tar.gz /Library/Frameworks/R.framework/Resources/bin/R RaggedExperiment.buildbin-libdir StartedAt: 2025-02-20 22:31:00 -0500 (Thu, 20 Feb 2025) EndedAt: 2025-02-20 22:31:11 -0500 (Thu, 20 Feb 2025) EllapsedTime: 10.2 seconds RetCode: 0 Status: OK PackageFile: RaggedExperiment_1.31.1.tgz PackageFileSize: 1.19 MiB