Package: RadioGx Version: 2.11.0 Command: E:\biocbuild\bbs-3.21-bioc\R\bin\R.exe CMD INSTALL RadioGx StartedAt: 2025-02-20 16:19:47 -0500 (Thu, 20 Feb 2025) EndedAt: 2025-02-20 16:20:51 -0500 (Thu, 20 Feb 2025) EllapsedTime: 63.9 seconds RetCode: 0 Status: OK