Package: RadioGx Version: 2.11.0 Command: chmod a+r RadioGx -R && E:\biocbuild\bbs-3.21-bioc\R\bin\R.exe CMD build --keep-empty-dirs --no-resave-data RadioGx StartedAt: 2025-02-20 21:03:25 -0500 (Thu, 20 Feb 2025) EndedAt: 2025-02-20 21:04:44 -0500 (Thu, 20 Feb 2025) EllapsedTime: 79.0 seconds RetCode: 0 Status: OK PackageFile: RadioGx_2.11.0.tar.gz PackageFileSize: 2.736 MiB