Package: RadioGx Version: 2.11.0 Command: rm -rf RadioGx.buildbin-libdir && mkdir RadioGx.buildbin-libdir && E:\biocbuild\bbs-3.21-bioc\R\bin\R.exe CMD INSTALL --build --library=RadioGx.buildbin-libdir RadioGx_2.11.0.tar.gz StartedAt: 2025-02-21 08:50:43 -0500 (Fri, 21 Feb 2025) EndedAt: 2025-02-21 08:52:13 -0500 (Fri, 21 Feb 2025) EllapsedTime: 89.7 seconds RetCode: 0 Status: OK PackageFile: RadioGx_2.11.0.zip PackageFileSize: 4.179 MiB