Package: RadioGx Version: 2.11.0 Command: /home/biocbuild/bbs-3.21-bioc/R/bin/R CMD check --install=check:RadioGx.install-out.txt --library=/home/biocbuild/bbs-3.21-bioc/R/site-library --timings RadioGx_2.11.0.tar.gz StartedAt: 2025-02-21 00:58:49 -0500 (Fri, 21 Feb 2025) EndedAt: 2025-02-21 01:03:09 -0500 (Fri, 21 Feb 2025) EllapsedTime: 260.6 seconds RetCode: 0 Status: OK CheckDir: RadioGx.Rcheck Warnings: 0