Package: RadioGx Version: 2.11.0 Command: /home/biocbuild/bbs-3.21-bioc/R/bin/R CMD build --keep-empty-dirs --no-resave-data RadioGx StartedAt: 2025-02-20 18:50:22 -0500 (Thu, 20 Feb 2025) EndedAt: 2025-02-20 18:51:12 -0500 (Thu, 20 Feb 2025) EllapsedTime: 50.1 seconds RetCode: 0 Status: OK PackageFile: RadioGx_2.11.0.tar.gz PackageFileSize: 2.765 MiB